BEGIN:VCALENDAR
VERSION:2.0
PRODID:-//Pride in Diversity - ECPv4.9.7//NONSGML v1.0//EN
CALSCALE:GREGORIAN
METHOD:PUBLISH
X-WR-CALNAME:Pride in Diversity
X-ORIGINAL-URL:https://www.prideinclusionprograms.com.au
X-WR-CALDESC:Events for Pride in Diversity
BEGIN:VTIMEZONE
TZID:"Australia/Sydney"
BEGIN:STANDARD
TZOFFSETFROM:+1100
TZOFFSETTO:+1000
TZNAME:AEST
DTSTART:20210403T160000
END:STANDARD
BEGIN:DAYLIGHT
TZOFFSETFROM:+1000
TZOFFSETTO:+1100
TZNAME:AEDT
DTSTART:20211002T160000
END:DAYLIGHT
TZID:"Australia/Brisbane"
BEGIN:STANDARD
TZOFFSETFROM:+1000
TZOFFSETTO:+1000
TZNAME:AEST
DTSTART:20210101T000000
END:STANDARD
TZID:"Australia/Perth"
BEGIN:STANDARD
TZOFFSETFROM:+0800
TZOFFSETTO:+0800
TZNAME:AWST
DTSTART:20210101T000000
END:STANDARD
TZID:"Australia/Adelaide"
BEGIN:STANDARD
TZOFFSETFROM:+1030
TZOFFSETTO:+0930
TZNAME:ACST
DTSTART:20210403T163000
END:STANDARD
BEGIN:DAYLIGHT
TZOFFSETFROM:+0930
TZOFFSETTO:+1030
TZNAME:ACDT
DTSTART:20211002T163000
END:DAYLIGHT
END:VTIMEZONE
BEGIN:VEVENT
DTSTART;TZID="Australia/Sydney":20210208T130000
DTEND;TZID="Australia/Sydney":20210208T160000
DTSTAMP:20210226T092552
CREATED:20201213T092142Z
LAST-MODIFIED:20201213T092746Z
UID:9674-1612789200-1612800000@www.prideinclusionprograms.com.au
SUMMARY:Pride in Diversity Endorsed Trainer Program
DESCRIPTION:The Pride in Diversity (PID) Endorsed LGBTQ Trainer Program equips individuals and organisations to deliver face-to-face facilitated LGBTQ education experiences. \nDeveloped for internal trainers\, this program arms participants to deliver Pride in Diversity’s LGBTQ Awareness training module through in depth\, facilitator led workshops. \nFebruary 8th – 19th. \nClick here for more information \n
URL:https://www.prideinclusionprograms.com.au/event/pride-in-diversity-endorsed-trainer-program/
CATEGORIES:Endorsed Trainer
END:VEVENT
BEGIN:VEVENT
DTSTART;TZID="Australia/Sydney":20210209T123000
DTEND;TZID="Australia/Sydney":20210209T140000
DTSTAMP:20210226T092553
CREATED:20201213T094144Z
LAST-MODIFIED:20201213T123920Z
UID:9700-1612873800-1612879200@www.prideinclusionprograms.com.au
SUMMARY:LGBTQ Awareness Training
DESCRIPTION:Pride in Diversity will provide participants with an overall understanding of why LGBTQ workplace inclusion is important to an organisation\, explore challenges often faced by LGBTQ employees and provide awareness on the impact that a culture has on the lived experience of its employees. \nRegister via Members Menu once logged in. \n
URL:https://www.prideinclusionprograms.com.au/event/lgbtq-awareness/
CATEGORIES:Online Training
END:VEVENT
BEGIN:VEVENT
DTSTART;TZID="Australia/Sydney":20210209T153000
DTEND;TZID="Australia/Sydney":20210209T170000
DTSTAMP:20210226T092553
CREATED:20201213T092618Z
LAST-MODIFIED:20201213T092618Z
UID:9676-1612884600-1612890000@www.prideinclusionprograms.com.au
SUMMARY:Sydney Roundtable
DESCRIPTION:Our Member Roundtables provide the opportunity to discuss LGBTQ inclusion from a local perspective. Includes Q&A with Pride in Diversity. \nAccess registration via Members Menu once logged in. \n
URL:https://www.prideinclusionprograms.com.au/event/sydney-roundtable-4/
CATEGORIES:State Roundtable
END:VEVENT
BEGIN:VEVENT
DTSTART;TZID="Australia/Brisbane":20210209T153000
DTEND;TZID="Australia/Brisbane":20210209T170000
DTSTAMP:20210226T092553
CREATED:20201213T092906Z
LAST-MODIFIED:20201213T092906Z
UID:9680-1612884600-1612890000@www.prideinclusionprograms.com.au
SUMMARY:Brisbane Roundtable
DESCRIPTION:Our Member Roundtables provide the opportunity to discuss LGBTQ inclusion from a local perspective. Includes Q&A with Pride in Diversity. \nAccess registration via Members Menu once logged in. \n
URL:https://www.prideinclusionprograms.com.au/event/brisbane-roundtable-2/
CATEGORIES:State Roundtable
END:VEVENT
BEGIN:VEVENT
DTSTART;TZID="Australia/Sydney":20210209T153000
DTEND;TZID="Australia/Sydney":20210209T170000
DTSTAMP:20210226T092553
CREATED:20201213T093009Z
LAST-MODIFIED:20201213T093009Z
UID:9682-1612884600-1612890000@www.prideinclusionprograms.com.au
SUMMARY:Canberra Roundtable
DESCRIPTION:Our Member Roundtables provide the opportunity to discuss LGBTQ inclusion from a local perspective. Includes Q&A with Pride in Diversity. \nAccess registration via Members Menu once logged in. \n
URL:https://www.prideinclusionprograms.com.au/event/canberra-roundtable-3/
CATEGORIES:State Roundtable
END:VEVENT
BEGIN:VEVENT
DTSTART;TZID="Australia/Sydney":20210209T173000
DTEND;TZID="Australia/Sydney":20210209T190000
DTSTAMP:20210226T092553
CREATED:20201213T093553Z
LAST-MODIFIED:20201213T093553Z
UID:9690-1612891800-1612897200@www.prideinclusionprograms.com.au
SUMMARY:Sydney Networking Event
DESCRIPTION:Networking events follow on after our Roundtables\, and have been designed to facilitate professional networking amongst employees of member organisations\, to extend your professional networks\, learn more about what others are doing in this space and of course\, meet new people. \nAccess registration via Members Menu once logged in. \n
URL:https://www.prideinclusionprograms.com.au/event/sydney-networking-event-2/
CATEGORIES:Networking
END:VEVENT
BEGIN:VEVENT
DTSTART;TZID="Australia/Sydney":20210209T173000
DTEND;TZID="Australia/Sydney":20210209T190000
DTSTAMP:20210226T092553
CREATED:20201213T093656Z
LAST-MODIFIED:20201213T093656Z
UID:9692-1612891800-1612897200@www.prideinclusionprograms.com.au
SUMMARY:Canberra Networking Event
DESCRIPTION:Networking events follow on after our Roundtables\, and have been designed to facilitate professional networking amongst employees of member organisations\, to extend your professional networks\, learn more about what others are doing in this space and of course\, meet new people. \nAccess registration via Members Menu once logged in. \n
URL:https://www.prideinclusionprograms.com.au/event/canberra-networking-event-2/
CATEGORIES:Networking
END:VEVENT
BEGIN:VEVENT
DTSTART;TZID="Australia/Sydney":20210209T173000
DTEND;TZID="Australia/Sydney":20210209T190000
DTSTAMP:20210226T092553
CREATED:20210114T212118Z
LAST-MODIFIED:20210114T212135Z
UID:9871-1612891800-1612897200@www.prideinclusionprograms.com.au
SUMMARY:Brisbane Networking
DESCRIPTION:Networking events follow on after our Roundtables\, and have been designed to facilitate professional networking amongst employees of member organisations\, to extend your professional networks\, learn more about what others are doing in this space and of course\, meet new people. \nAccess registration via Members Menu once logged in. \n
URL:https://www.prideinclusionprograms.com.au/event/brisbane-networking-2/
CATEGORIES:Networking
END:VEVENT
BEGIN:VEVENT
DTSTART;TZID="Australia/Sydney":20210210T123000
DTEND;TZID="Australia/Sydney":20210210T140000
DTSTAMP:20210226T092553
CREATED:20201213T095521Z
LAST-MODIFIED:20201213T095521Z
UID:9722-1612960200-1612965600@www.prideinclusionprograms.com.au
SUMMARY:LGBTQ HR & Recruitment Training
DESCRIPTION:Pride in Diversity will provide an interactive session on LGBTQ inclusion tailored to HR professionals\, recruitment teams\, and hiring managers to understand the specific issues faced by LGBTQ employees and prospective employees. NB: Attendees for this session MUST have completed an LGBTQ Awareness session within the past 12 months. \nRegister via Members Menu once logged in. \n
URL:https://www.prideinclusionprograms.com.au/event/lgbtq-hr-recruitment-training/
CATEGORIES:Online Training
END:VEVENT
BEGIN:VEVENT
DTSTART;TZID="Australia/Perth":20210211T153000
DTEND;TZID="Australia/Perth":20210211T170000
DTSTAMP:20210226T092553
CREATED:20201213T093141Z
LAST-MODIFIED:20201213T093141Z
UID:9684-1613057400-1613062800@www.prideinclusionprograms.com.au
SUMMARY:Perth Roundtable
DESCRIPTION:Our Member Roundtables provide the opportunity to discuss LGBTQ inclusion from a local perspective. Includes Q&A with Pride in Diversity. \nAccess registration via Members Menu once logged in. \n
URL:https://www.prideinclusionprograms.com.au/event/perth-roundtable-4/
CATEGORIES:State Roundtable
END:VEVENT
BEGIN:VEVENT
DTSTART;TZID="Australia/Perth":20210211T173000
DTEND;TZID="Australia/Perth":20210211T190000
DTSTAMP:20210226T092553
CREATED:20201213T093751Z
LAST-MODIFIED:20201213T093751Z
UID:9694-1613064600-1613070000@www.prideinclusionprograms.com.au
SUMMARY:Perth Networking Event
DESCRIPTION:Networking events follow on after our Roundtables\, and have been designed to facilitate professional networking amongst employees of member organisations\, to extend your professional networks\, learn more about what others are doing in this space and of course\, meet new people. \nAccess registration via Members Menu once logged in. \n
URL:https://www.prideinclusionprograms.com.au/event/perth-networking-event/
CATEGORIES:Networking
END:VEVENT
BEGIN:VEVENT
DTSTART;TZID="Australia/Sydney":20210218T113000
DTEND;TZID="Australia/Sydney":20210218T140000
DTSTAMP:20210226T092553
CREATED:20201213T111606Z
LAST-MODIFIED:20201213T112058Z
UID:9740-1613647800-1613656800@www.prideinclusionprograms.com.au
SUMMARY:Pride in Diversity National Executive Allies Forum
DESCRIPTION:The National Executive Allies Forum is an Australia-wide forum for senior executives from member organisations\, who are sponsors\, champions and allies to come together quarterly through the year to discuss challenges\, opportunities and initiatives for LGBTQ workplace inclusion. It is also a means to learn from peers and to share stories (both professional and personal). Contact Associate Director Mark Latchford for more information. \n
URL:https://www.prideinclusionprograms.com.au/event/pride-in-diversity-national-executive-allies-forum/
CATEGORIES:Exec Allies Forum
END:VEVENT
BEGIN:VEVENT
DTSTART;TZID="Australia/Adelaide":20210218T153000
DTEND;TZID="Australia/Adelaide":20210218T170000
DTSTAMP:20210226T092553
CREATED:20201213T093300Z
LAST-MODIFIED:20201213T093300Z
UID:9686-1613662200-1613667600@www.prideinclusionprograms.com.au
SUMMARY:Adelaide Roundtable
DESCRIPTION:Our Member Roundtables provide the opportunity to discuss LGBTQ inclusion from a local perspective. Includes Q&A with Pride in Diversity. \nAccess registration via Members Menu once logged in. \n
URL:https://www.prideinclusionprograms.com.au/event/adelaide-roundtable-4/
CATEGORIES:State Roundtable
END:VEVENT
BEGIN:VEVENT
DTSTART;TZID="Australia/Sydney":20210218T173000
DTEND;TZID="Australia/Sydney":20210218T190000
DTSTAMP:20210226T092553
CREATED:20201213T093845Z
LAST-MODIFIED:20201213T093845Z
UID:9696-1613669400-1613674800@www.prideinclusionprograms.com.au
SUMMARY:Adelaide Networking Event
DESCRIPTION:Networking events follow on after our Roundtables\, and have been designed to facilitate professional networking amongst employees of member organisations\, to extend your professional networks\, learn more about what others are doing in this space and of course\, meet new people. \nAccess registration via Members Menu once logged in. \n
URL:https://www.prideinclusionprograms.com.au/event/adelaide-networking-event-3/
CATEGORIES:Networking
END:VEVENT
BEGIN:VEVENT
DTSTART;TZID="Australia/Sydney":20210221T100000
DTEND;TZID="Australia/Sydney":20210221T170000
DTSTAMP:20210226T092553
CREATED:20201213T112657Z
LAST-MODIFIED:20201213T112657Z
UID:9750-1613901600-1613926800@www.prideinclusionprograms.com.au
SUMMARY:Sydney Mardi Gras Fair Day
DESCRIPTION:
URL:https://www.prideinclusionprograms.com.au/event/sydney-mardi-gras-fair-day/
CATEGORIES:LGBTQ Day of Significance
END:VEVENT
BEGIN:VEVENT
DTSTART;TZID="Australia/Sydney":20210224T153000
DTEND;TZID="Australia/Sydney":20210224T170000
DTSTAMP:20210226T092553
CREATED:20201213T093351Z
LAST-MODIFIED:20201213T093351Z
UID:9688-1614180600-1614186000@www.prideinclusionprograms.com.au
SUMMARY:Melbourne Roundtable
DESCRIPTION:Our Member Roundtables provide the opportunity to discuss LGBTQ inclusion from a local perspective. Includes Q&A with Pride in Diversity. \nAccess registration via Members Menu once logged in. \n
URL:https://www.prideinclusionprograms.com.au/event/melbourne-roundtable-4/
CATEGORIES:State Roundtable
END:VEVENT
BEGIN:VEVENT
DTSTART;TZID="Australia/Sydney":20210224T173000
DTEND;TZID="Australia/Sydney":20210224T190000
DTSTAMP:20210226T092553
CREATED:20201213T093940Z
LAST-MODIFIED:20201213T093940Z
UID:9698-1614187800-1614193200@www.prideinclusionprograms.com.au
SUMMARY:Melbourne Networking Event
DESCRIPTION:Networking events follow on after our Roundtables\, and have been designed to facilitate professional networking amongst employees of member organisations\, to extend your professional networks\, learn more about what others are doing in this space and of course\, meet new people. \nAccess registration via Members Menu once logged in. \n
URL:https://www.prideinclusionprograms.com.au/event/melbourne-networking-event-2/
CATEGORIES:Networking
END:VEVENT
END:VCALENDAR